BEGIN:VCALENDAR
PRODID:-//eluceo/ical//2.0/EN
VERSION:2.0
CALSCALE:GREGORIAN
BEGIN:VEVENT
UID:dd68a84ad5be5de8aab04102874e3e53
DTSTAMP:20260421T102028Z
SUMMARY:Diner-vergadering Maritiem Instituut Mercator
DESCRIPTION:\n\n\n\nDiner-vergadering met Gastspreker Jan Denys Directeur M
 aritiem Instituut Mercator Oostende.\n \n\n\n\n\nSpeaker(s): Gastspreker 
 Jan Denys Directeur Maritiem Instituut Mercator Oostende.\n
URL:https://oostende-maritiem.rotary2130.org/en/agenda/show/1134
DTSTART;TZID=Europe/Zurich:20140908T193000
DTEND;TZID=Europe/Zurich:20140908T230000
LOCATION:Venetiaanse Gaanderijen 
CATEGORIES:Rotary
END:VEVENT
BEGIN:VTIMEZONE
TZID:Europe/Zurich
BEGIN:DAYLIGHT
DTSTART:20140908T193000
TZNAME:CEST
TZOFFSETTO:+0200
TZOFFSETFROM:+0200
END:DAYLIGHT
END:VTIMEZONE
END:VCALENDAR
