BEGIN:VCALENDAR
PRODID:-//eluceo/ical//2.0/EN
VERSION:2.0
CALSCALE:GREGORIAN
BEGIN:VEVENT
UID:9d0fad573bda427e0641dca8a44beab3
DTSTAMP:20260421T101250Z
SUMMARY:Partnernight BBQ met de drie Oostendse Rotary Clubs
DESCRIPTION:Website: http://www.koninginnehof.be/\nSpeaker(s): Partnernight
  BBQ met de drie Oostendse Rotary Clubs
URL:https://oostende-maritiem.rotary2130.org/en/agenda/show/1137
DTSTART;TZID=Europe/Zurich:20140930T193000
DTEND;TZID=Europe/Zurich:20140930T230000
LOCATION:Koninginnehof Oostende
CATEGORIES:Rotary
END:VEVENT
BEGIN:VTIMEZONE
TZID:Europe/Zurich
BEGIN:DAYLIGHT
DTSTART:20140930T193000
TZNAME:CEST
TZOFFSETTO:+0200
TZOFFSETFROM:+0200
END:DAYLIGHT
END:VTIMEZONE
END:VCALENDAR
